BEGIN:VCALENDAR
PRODID:-//MSIAPromos.com//NONSGML v1.0//EN
VERSION:2.0
CALSCALE:GREGORIAN
METHOD:PUBLISH
X-WR-CALNAME:MSIAPromos.com
X-ORIGINAL-URL:https://msiapromos.com
X-WR-CALDESC:Events for MSIAPromos.com
BEGIN:VEVENT
DTSTART:20151019T000000
DTEND:20151019T235900
DTSTAMP:20260423T105207
CREATED:20151018T114853
LAST-MODIFIED:20151018T114911
UID:47656@https://msiapromos.com
SUMMARY:llaollao FREE Sanums Giveaway @ Pavilion KL 19 Oct 2015
DESCRIPTION:llaollao is giving away FREE sanums for the first 100 customers at Pavilion KL on 19 October. For more information, visit [ https://msiapromos.com/dining-restaurants-food/llaollao-free-sanums-giveaway-pavilion-kl-19-oct-2015-47656/ ]. 
LOCATION:
URL:https://msiapromos.com/dining-restaurants-food/llaollao-free-sanums-giveaway-pavilion-kl-19-oct-2015-47656/
END:VEVENT
END:VCALENDAR