BEGIN:VCALENDAR
PRODID:-//MSIAPromos.com//NONSGML v1.0//EN
VERSION:2.0
CALSCALE:GREGORIAN
METHOD:PUBLISH
X-WR-CALNAME:MSIAPromos.com
X-ORIGINAL-URL:https://msiapromos.com
X-WR-CALDESC:Events for MSIAPromos.com
BEGIN:VEVENT
DTSTART:20151003T000000
DTEND:20151004T235900
DTSTAMP:20260422T083448
CREATED:20151003T145920
LAST-MODIFIED:20151005T163112
UID:47193@https://msiapromos.com
SUMMARY:Luxola 30% OFF Storewide (NO Min Spend) Coupon Code From 3 Oct 2015
DESCRIPTION:Enjoy 30% OFF storewide at Luxola. NO Minimum spend.. For more information, visit [ https://msiapromos.com/department-stores/luxola-30-off-storewide-no-min-spend-coupon-code-from-3-oct-2015-47193/ ]. 
LOCATION:
URL:https://msiapromos.com/department-stores/luxola-30-off-storewide-no-min-spend-coupon-code-from-3-oct-2015-47193/
END:VEVENT
END:VCALENDAR