BEGIN:VCALENDAR
PRODID:-//MSIAPromos.com//NONSGML v1.0//EN
VERSION:2.0
CALSCALE:GREGORIAN
METHOD:PUBLISH
X-WR-CALNAME:MSIAPromos.com
X-ORIGINAL-URL:https://msiapromos.com
X-WR-CALDESC:Events for MSIAPromos.com
BEGIN:VEVENT
DTSTART:20151004T000000
DTEND:20151231T235900
DTSTAMP:20260419T215617
CREATED:20151004T160832
LAST-MODIFIED:20151002T230916
UID:47160@https://msiapromos.com
SUMMARY:LightInTheBox $20 OFF $200 Spend Storewide Coupon Code 4 Oct - 31 Dec 2015
DESCRIPTION:Get $20 off when you make a minimum purchase of $100.. For more information, visit [ https://msiapromos.com/department-stores/lightinthebox-20-off-200-spend-storewide-coupon-code-4-oct-31-dec-2015-47160/ ]. 
LOCATION:
URL:https://msiapromos.com/department-stores/lightinthebox-20-off-200-spend-storewide-coupon-code-4-oct-31-dec-2015-47160/
END:VEVENT
END:VCALENDAR