BEGIN:VCALENDAR
PRODID:-//MSIAPromos.com//NONSGML v1.0//EN
VERSION:2.0
CALSCALE:GREGORIAN
METHOD:PUBLISH
X-WR-CALNAME:MSIAPromos.com
X-ORIGINAL-URL:https://msiapromos.com
X-WR-CALDESC:Events for MSIAPromos.com
BEGIN:VEVENT
DTSTART:20150828T000000
DTEND:20150831T235900
DTSTAMP:20260423T125442
CREATED:20150829T211052
LAST-MODIFIED:20150829T211052
UID:45978@https://msiapromos.com
SUMMARY:Desa Home Theatre National Day Sale 2015 28 - 31 Aug 2015
DESCRIPTION:Save up to 80%. For more information, visit [ https://msiapromos.com/audio-visual/desa-home-theatre-national-day-sale-2015-28-31-aug-2015-45978/ ]. 
LOCATION:
URL:https://msiapromos.com/audio-visual/desa-home-theatre-national-day-sale-2015-28-31-aug-2015-45978/
END:VEVENT
END:VCALENDAR