BEGIN:VCALENDAR
PRODID:-//MSIAPromos.com//NONSGML v1.0//EN
VERSION:2.0
CALSCALE:GREGORIAN
METHOD:PUBLISH
X-WR-CALNAME:MSIAPromos.com
X-ORIGINAL-URL:https://msiapromos.com
X-WR-CALDESC:Events for MSIAPromos.com
BEGIN:VEVENT
DTSTART:20150730T000000
DTEND:20150802T235900
DTSTAMP:20260423T123728
CREATED:20150730T175814
LAST-MODIFIED:20150802T122852
UID:45264@https://msiapromos.com
SUMMARY:La Senza 60% Storewide Promotion 30 Jul - 2 Aug 2015
DESCRIPTION:Just make a minimum RM500 purchase. For more information, visit [ https://msiapromos.com/fashion-accessories/la-senza-60-storewide-promotion-30-31-jul-2015-45264/ ]. 
LOCATION:
URL:https://msiapromos.com/fashion-accessories/la-senza-60-storewide-promotion-30-31-jul-2015-45264/
END:VEVENT
END:VCALENDAR