BEGIN:VCALENDAR
PRODID:-//MSIAPromos.com//NONSGML v1.0//EN
VERSION:2.0
CALSCALE:GREGORIAN
METHOD:PUBLISH
X-WR-CALNAME:MSIAPromos.com
X-ORIGINAL-URL:https://msiapromos.com
X-WR-CALDESC:Events for MSIAPromos.com
BEGIN:VEVENT
DTSTART:20150716T000000
DTEND:20150716T235900
DTSTAMP:20260423T123728
CREATED:20150716T203305
LAST-MODIFIED:20150716T203305
UID:44942@https://msiapromos.com
SUMMARY:La Senza Spend RM200 & Get RM44 Rebate 16 Jul 2015
DESCRIPTION:Last day of the 7 Days of Sexy sale.. For more information, visit [ https://msiapromos.com/fashion-accessories/la-senza-spend-rm200-get-rm44-rebate-16-jul-2015-44942/ ]. 
LOCATION:
URL:https://msiapromos.com/fashion-accessories/la-senza-spend-rm200-get-rm44-rebate-16-jul-2015-44942/
END:VEVENT
END:VCALENDAR