BEGIN:VCALENDAR
PRODID:-//MSIAPromos.com//NONSGML v1.0//EN
VERSION:2.0
CALSCALE:GREGORIAN
METHOD:PUBLISH
X-WR-CALNAME:MSIAPromos.com
X-ORIGINAL-URL:https://msiapromos.com
X-WR-CALDESC:Events for MSIAPromos.com
BEGIN:VEVENT
DTSTART:20150628T000000
DTEND:20150628T235900
DTSTAMP:20260419T231711
CREATED:20150626T115028
LAST-MODIFIED:20150626T020448
UID:44310@https://msiapromos.com
SUMMARY:Wendy's RM6.50 5pcs Chicken Tenders 1-Day Promotion 28 Jun 2015
DESCRIPTION:Get 5 pcs chicken tenders at RM6.50 only!. For more information, visit [ https://msiapromos.com/dining-restaurants-food/wendys-rm6-50-5pcs-chicken-tenders-1-day-promotion-28-jun-2015-44310/ ]. 
LOCATION:
URL:https://msiapromos.com/dining-restaurants-food/wendys-rm6-50-5pcs-chicken-tenders-1-day-promotion-28-jun-2015-44310/
END:VEVENT
END:VCALENDAR