BEGIN:VCALENDAR
PRODID:-//MSIAPromos.com//NONSGML v1.0//EN
VERSION:2.0
CALSCALE:GREGORIAN
METHOD:PUBLISH
X-WR-CALNAME:MSIAPromos.com
X-ORIGINAL-URL:https://msiapromos.com
X-WR-CALDESC:Events for MSIAPromos.com
BEGIN:VEVENT
DTSTART:20150620T000000
DTEND:20150707T235900
DTSTAMP:20260419T223816
CREATED:20150620T011026
LAST-MODIFIED:20150620T011026
UID:44142@https://msiapromos.com
SUMMARY:Acronis 40% Off True Image Backup & Recovery Software Promotion 20 Jun - 7 Jul 2015
DESCRIPTION:Enjoy reliable image backup and recovery of your entire system - email, music, photos, videos, documents, personal settings, bookmarks, and all your applications.. For more information, visit [ https://msiapromos.com/computers-pc/acronis-40-off-true-image-backup-recovery-software-promotion-20-jun-7-jul-2015-44142/ ]. 
LOCATION:
URL:https://msiapromos.com/computers-pc/acronis-40-off-true-image-backup-recovery-software-promotion-20-jun-7-jul-2015-44142/
END:VEVENT
END:VCALENDAR