BEGIN:VCALENDAR
PRODID:-//MSIAPromos.com//NONSGML v1.0//EN
VERSION:2.0
CALSCALE:GREGORIAN
METHOD:PUBLISH
X-WR-CALNAME:MSIAPromos.com
X-ORIGINAL-URL:https://msiapromos.com
X-WR-CALDESC:Events for MSIAPromos.com
BEGIN:VEVENT
DTSTART:20150530T000000
DTEND:20150614T235900
DTSTAMP:20260419T225401
CREATED:20150530T182529
LAST-MODIFIED:20150530T182529
UID:43547@https://msiapromos.com
SUMMARY:Pavilion KL SpongeBob SquarePants Promotions & Activities 30 May - 14 Jun 2015
DESCRIPTION:Splash your way to Pavilion KL this school holidays for an unforgettable experience with SpongeBob and Patrick.. For more information, visit [ https://msiapromos.com/shopping-malls/pavilion-kl-spongebob-squarepants-promotions-activities-30-may-14-jun-2015-43547/ ]. 
LOCATION:
URL:https://msiapromos.com/shopping-malls/pavilion-kl-spongebob-squarepants-promotions-activities-30-may-14-jun-2015-43547/
END:VEVENT
END:VCALENDAR