BEGIN:VCALENDAR
PRODID:-//MSIAPromos.com//NONSGML v1.0//EN
VERSION:2.0
CALSCALE:GREGORIAN
METHOD:PUBLISH
X-WR-CALNAME:MSIAPromos.com
X-ORIGINAL-URL:https://msiapromos.com
X-WR-CALDESC:Events for MSIAPromos.com
BEGIN:VEVENT
DTSTART:20150501T000000
DTEND:20150531T235900
DTSTAMP:20260419T205256
CREATED:20150429T000507
LAST-MODIFIED:20150429T000507
UID:42186@https://msiapromos.com
SUMMARY:Etude House Buy 1 FREE 1 @ Nationwide 1 - 31 May 2015
DESCRIPTION:Buy 1 FREE 1 promotion on May 2015 running through out the entire month nationwide. For more information, visit [ https://msiapromos.com/beauty/etude-house-buy-1-free-1-nationwide-1-31-may-2015-42186/ ]. 
LOCATION:
URL:https://msiapromos.com/beauty/etude-house-buy-1-free-1-nationwide-1-31-may-2015-42186/
END:VEVENT
END:VCALENDAR