BEGIN:VCALENDAR
PRODID:-//MSIAPromos.com//NONSGML v1.0//EN
VERSION:2.0
CALSCALE:GREGORIAN
METHOD:PUBLISH
X-WR-CALNAME:MSIAPromos.com
X-ORIGINAL-URL:https://msiapromos.com
X-WR-CALDESC:Events for MSIAPromos.com
BEGIN:VEVENT
DTSTART:20150209T000000
DTEND:20150222T235900
DTSTAMP:20260421T053214
CREATED:20150209T010436
LAST-MODIFIED:20150209T231640
UID:38402@https://msiapromos.com
SUMMARY:Air Asia From RM29 (all-in) No Surcharge Promo Fares 9 - 22 Feb 2015
DESCRIPTION:Air Asia offers all-in fares from RM29 (all-in) with no fuel surcharges. Check out the latest offers below valid till 22 February 2015. For more information, visit [ https://msiapromos.com/airlines-flights/air-asia-from-rm29-all-in-no-surcharge-promo-fares-9-22-feb-2015-38402/ ]. 
LOCATION:
URL:https://msiapromos.com/airlines-flights/air-asia-from-rm29-all-in-no-surcharge-promo-fares-9-22-feb-2015-38402/
END:VEVENT
END:VCALENDAR