BEGIN:VCALENDAR
PRODID:-//MSIAPromos.com//NONSGML v1.0//EN
VERSION:2.0
CALSCALE:GREGORIAN
METHOD:PUBLISH
X-WR-CALNAME:MSIAPromos.com
X-ORIGINAL-URL:https://msiapromos.com
X-WR-CALDESC:Events for MSIAPromos.com
BEGIN:VEVENT
DTSTART:20150207T000000
DTEND:20150228T235900
DTSTAMP:20260419T204446
CREATED:20150208T013530
LAST-MODIFIED:20150217T192705
UID:38388@https://msiapromos.com
SUMMARY:Etude House Buy 1 Get 1 FREE Storewide Promo @ Nationwide 7 - 28 Feb 2015
DESCRIPTION:Buy 1 FREE 1 promotion nationwide. For more information, visit [ https://msiapromos.com/beauty/etude-house-buy-1-get-1-free-promo-nationwide-7-28-feb-2015-38388/ ]. 
LOCATION:
URL:https://msiapromos.com/beauty/etude-house-buy-1-get-1-free-promo-nationwide-7-28-feb-2015-38388/
END:VEVENT
END:VCALENDAR