BEGIN:VCALENDAR
PRODID:-//MSIAPromos.com//NONSGML v1.0//EN
VERSION:2.0
CALSCALE:GREGORIAN
METHOD:PUBLISH
X-WR-CALNAME:MSIAPromos.com
X-ORIGINAL-URL:https://msiapromos.com
X-WR-CALDESC:Events for MSIAPromos.com
BEGIN:VEVENT
DTSTART:20150202T000000
DTEND:20150208T235900
DTSTAMP:20260421T053213
CREATED:20150202T135352
LAST-MODIFIED:20150202T135450
UID:38114@https://msiapromos.com
SUMMARY:Air Asia From RM18 (all-in) No Surcharge Promo Fares 2 - 8 Feb 2015
DESCRIPTION:Enjoy RM18 all-in fares from KL to Penang, JB, Alor Setar, Kota Bharu and Langkawi! Many more promo fares. For more information, visit [ https://msiapromos.com/airlines-flights/air-asia-from-rm18-all-in-no-surcharge-promo-fares-2-8-feb-2015-38114/ ]. 
LOCATION:
URL:https://msiapromos.com/airlines-flights/air-asia-from-rm18-all-in-no-surcharge-promo-fares-2-8-feb-2015-38114/
END:VEVENT
END:VCALENDAR