BEGIN:VCALENDAR
PRODID:-//MSIAPromos.com//NONSGML v1.0//EN
VERSION:2.0
CALSCALE:GREGORIAN
METHOD:PUBLISH
X-WR-CALNAME:MSIAPromos.com
X-ORIGINAL-URL:https://msiapromos.com
X-WR-CALDESC:Events for MSIAPromos.com
BEGIN:VEVENT
DTSTART:20130501T000000
DTEND:20140910T235900
DTSTAMP:20260423T105218
CREATED:20130502T091535
LAST-MODIFIED:20140918T141250
UID:3719@https://msiapromos.com
SUMMARY:Baskin-Robbins Pink Day Wednesday Promos From 1 May 2013
DESCRIPTION:Every Wednesday, simply flash anything pink at a Baskin-Robbins outlet staff and enjoy special offers!. For more information, visit [ https://msiapromos.com/dining-restaurants-food/baskin-robbins-pink-day-wednesday-promo-1-may-2013-3719/ ]. 
LOCATION:
URL:https://msiapromos.com/dining-restaurants-food/baskin-robbins-pink-day-wednesday-promo-1-may-2013-3719/
END:VEVENT
END:VCALENDAR