BEGIN:VCALENDAR
PRODID:-//MSIAPromos.com//NONSGML v1.0//EN
VERSION:2.0
CALSCALE:GREGORIAN
METHOD:PUBLISH
X-WR-CALNAME:MSIAPromos.com
X-ORIGINAL-URL:https://msiapromos.com
X-WR-CALDESC:Events for MSIAPromos.com
BEGIN:VEVENT
DTSTART:20150109T000000
DTEND:20150131T235900
DTSTAMP:20260419T205301
CREATED:20150109T175117
LAST-MODIFIED:20150109T175117
UID:36683@https://msiapromos.com
SUMMARY:Etude House Buy 1 Get 1 FREE Promo (Fri - Sun) 9 - 31 Jan 2015
DESCRIPTION:Buy 1 FREE 1 promotion nationwide. For more information, visit [ https://msiapromos.com/department-stores/etude-house-buy-1-get-1-free-promo-fri-sun-9-31-jan-2015-36683/ ]. 
LOCATION:
URL:https://msiapromos.com/department-stores/etude-house-buy-1-get-1-free-promo-fri-sun-9-31-jan-2015-36683/
END:VEVENT
END:VCALENDAR