BEGIN:VCALENDAR
PRODID:-//MSIAPromos.com//NONSGML v1.0//EN
VERSION:2.0
CALSCALE:GREGORIAN
METHOD:PUBLISH
X-WR-CALNAME:MSIAPromos.com
X-ORIGINAL-URL:https://msiapromos.com
X-WR-CALDESC:Events for MSIAPromos.com
BEGIN:VEVENT
DTSTART:20150101T000000
DTEND:20150104T235900
DTSTAMP:20260419T204659
CREATED:20150102T192153
LAST-MODIFIED:20150102T192153
UID:36393@https://msiapromos.com
SUMMARY:Etude House Buy 1 Get 1 FREE Promo @ Nationwide 1 - 4 Jan 2015
DESCRIPTION:Buy 1 FREE 1 promotion nationwide. For more information, visit [ https://msiapromos.com/cosmetics/etude-house-buy-1-get-1-free-promo-nationwide-1-4-jan-2015-36393/ ]. 
LOCATION:
URL:https://msiapromos.com/cosmetics/etude-house-buy-1-get-1-free-promo-nationwide-1-4-jan-2015-36393/
END:VEVENT
END:VCALENDAR