BEGIN:VCALENDAR
PRODID:-//MSIAPromos.com//NONSGML v1.0//EN
VERSION:2.0
CALSCALE:GREGORIAN
METHOD:PUBLISH
X-WR-CALNAME:MSIAPromos.com
X-ORIGINAL-URL:https://msiapromos.com
X-WR-CALDESC:Events for MSIAPromos.com
BEGIN:VEVENT
DTSTART:20150101T000000
DTEND:20150101T235900
DTSTAMP:20260426T043519
CREATED:20141231T203025
LAST-MODIFIED:20141231T203025
UID:36284@https://msiapromos.com
SUMMARY:Robinsons 9AM 1-Day Special Deals 1 Jan 2015
DESCRIPTION:Enjoy up to 70% OFF. For more information, visit [ https://msiapromos.com/department-stores/robinsons-9am-1-day-special-deals-1-jan-2015-36284/ ]. 
LOCATION:
URL:https://msiapromos.com/department-stores/robinsons-9am-1-day-special-deals-1-jan-2015-36284/
END:VEVENT
END:VCALENDAR