BEGIN:VCALENDAR
PRODID:-//MSIAPromos.com//NONSGML v1.0//EN
VERSION:2.0
CALSCALE:GREGORIAN
METHOD:PUBLISH
X-WR-CALNAME:MSIAPromos.com
X-ORIGINAL-URL:https://msiapromos.com
X-WR-CALDESC:Events for MSIAPromos.com
BEGIN:VEVENT
DTSTART:20150101T000000
DTEND:20150101T235900
DTSTAMP:20260426T043507
CREATED:20141231T173705
LAST-MODIFIED:20150108T151628
UID:36264@https://msiapromos.com
SUMMARY:Guardian Spend RM50 & Get Up To RM40 Voucher 1 Jan 2015
DESCRIPTION:Get FREE vouchers when you make a minimum spend of RM50. For more information, visit [ https://msiapromos.com/department-stores/guardian-spend-rm50-get-rm40-voucher-1-jan-2015-36264/ ]. 
LOCATION:
URL:https://msiapromos.com/department-stores/guardian-spend-rm50-get-rm40-voucher-1-jan-2015-36264/
END:VEVENT
END:VCALENDAR