BEGIN:VCALENDAR
PRODID:-//MSIAPromos.com//NONSGML v1.0//EN
VERSION:2.0
CALSCALE:GREGORIAN
METHOD:PUBLISH
X-WR-CALNAME:MSIAPromos.com
X-ORIGINAL-URL:https://msiapromos.com
X-WR-CALDESC:Events for MSIAPromos.com
BEGIN:VEVENT
DTSTART:20141231T000000
DTEND:20150101T235900
DTSTAMP:20260426T043507
CREATED:20141231T172720
LAST-MODIFIED:20141231T172720
UID:36261@https://msiapromos.com
SUMMARY:Cebu Pacific Air RM185 Manila Promo Air Fares 31 Dec 2014 - 1 Jan 2015
DESCRIPTION:Fly to Manila for as low as RM185. For more information, visit [ https://msiapromos.com/airlines-flights/cebu-pacific-air-rm185-manila-promo-air-fares-31-dec-2014-1-jan-2015-36261/ ]. 
LOCATION:
URL:https://msiapromos.com/airlines-flights/cebu-pacific-air-rm185-manila-promo-air-fares-31-dec-2014-1-jan-2015-36261/
END:VEVENT
END:VCALENDAR