BEGIN:VCALENDAR
PRODID:-//MSIAPromos.com//NONSGML v1.0//EN
VERSION:2.0
CALSCALE:GREGORIAN
METHOD:PUBLISH
X-WR-CALNAME:MSIAPromos.com
X-ORIGINAL-URL:https://msiapromos.com
X-WR-CALDESC:Events for MSIAPromos.com
BEGIN:VEVENT
DTSTART:20141227T000000
DTEND:20141230T235900
DTSTAMP:20260422T083500
CREATED:20141226T185659
LAST-MODIFIED:20141227T193604
UID:36070@https://msiapromos.com
SUMMARY:Muji Sales Event @ Avenue K 27 - 30 Dec 2014
DESCRIPTION:Enjoy discounts of up to 70% off Garment and Accessories.. For more information, visit [ https://msiapromos.com/happenings/muji-sales-event-avenue-k-27-30-dec-2014-36070/ ]. 
LOCATION:
URL:https://msiapromos.com/happenings/muji-sales-event-avenue-k-27-30-dec-2014-36070/
END:VEVENT
END:VCALENDAR