BEGIN:VCALENDAR
PRODID:-//MSIAPromos.com//NONSGML v1.0//EN
VERSION:2.0
CALSCALE:GREGORIAN
METHOD:PUBLISH
X-WR-CALNAME:MSIAPromos.com
X-ORIGINAL-URL:https://msiapromos.com
X-WR-CALDESC:Events for MSIAPromos.com
BEGIN:VEVENT
DTSTART:20141222T000000
DTEND:20141231T235900
DTSTAMP:20260419T205337
CREATED:20141223T120058
LAST-MODIFIED:20141223T120058
UID:35690@https://msiapromos.com
SUMMARY:Etude House Buy 1 Get 1 FREE Promo @ Nationwide 22 - 31 Dec 2014
DESCRIPTION:Buy 1 FREE 1 promotion nationwide. For more information, visit [ https://msiapromos.com/cosmetics/etude-house-buy-1-get-1-free-promo-nationwide-22-31-dec-2014-35690/ ]. 
LOCATION:
URL:https://msiapromos.com/cosmetics/etude-house-buy-1-get-1-free-promo-nationwide-22-31-dec-2014-35690/
END:VEVENT
END:VCALENDAR