BEGIN:VCALENDAR
PRODID:-//MSIAPromos.com//NONSGML v1.0//EN
VERSION:2.0
CALSCALE:GREGORIAN
METHOD:PUBLISH
X-WR-CALNAME:MSIAPromos.com
X-ORIGINAL-URL:https://msiapromos.com
X-WR-CALDESC:Events for MSIAPromos.com
BEGIN:VEVENT
DTSTART:20141213T000000
DTEND:20141228T235900
DTSTAMP:20260423T124036
CREATED:20141214T160146
LAST-MODIFIED:20141214T160146
UID:34985@https://msiapromos.com
SUMMARY:JIA Warehouse Clearance @ Petaling Jaya 13 - 28 Dec 2014
DESCRIPTION:Tableware and furniture Warehouse clearance with discounts of up to 70% OFF. For more information, visit [ https://msiapromos.com/warehouse-sales/jia-warehouse-clearance-petaling-jaya-13-28-dec-2014-34985/ ]. 
LOCATION:
URL:https://msiapromos.com/warehouse-sales/jia-warehouse-clearance-petaling-jaya-13-28-dec-2014-34985/
END:VEVENT
END:VCALENDAR