BEGIN:VCALENDAR
PRODID:-//MSIAPromos.com//NONSGML v1.0//EN
VERSION:2.0
CALSCALE:GREGORIAN
METHOD:PUBLISH
X-WR-CALNAME:MSIAPromos.com
X-ORIGINAL-URL:https://msiapromos.com
X-WR-CALDESC:Events for MSIAPromos.com
BEGIN:VEVENT
DTSTART:20141114T000000
DTEND:20141130T235900
DTSTAMP:20260423T123729
CREATED:20141114T190133
LAST-MODIFIED:20141114T190133
UID:32428@https://msiapromos.com
SUMMARY:Nose SALE 14 Nov 2014
DESCRIPTION:Enjoy up to 50% OFF storewide. For more information, visit [ https://msiapromos.com/fashion-accessories/nose-sale-14-nov-2014-32428/ ]. 
LOCATION:
URL:https://msiapromos.com/fashion-accessories/nose-sale-14-nov-2014-32428/
END:VEVENT
END:VCALENDAR