BEGIN:VCALENDAR
PRODID:-//MSIAPromos.com//NONSGML v1.0//EN
VERSION:2.0
CALSCALE:GREGORIAN
METHOD:PUBLISH
X-WR-CALNAME:MSIAPromos.com
X-ORIGINAL-URL:https://msiapromos.com
X-WR-CALDESC:Events for MSIAPromos.com
BEGIN:VEVENT
DTSTART:20141110T000000
DTEND:20141221T235900
DTSTAMP:20260423T123829
CREATED:20141110T171616
LAST-MODIFIED:20141212T000122
UID:32133@https://msiapromos.com
SUMMARY:Timberland End of Season Sale (Final Reductions!) 10 Nov 2014
DESCRIPTION:Enjoy up to 50% Off. For more information, visit [ https://msiapromos.com/footwear/timberland-end-of-season-sale-10-nov-2014-32133/ ]. 
LOCATION:
URL:https://msiapromos.com/footwear/timberland-end-of-season-sale-10-nov-2014-32133/
END:VEVENT
END:VCALENDAR