BEGIN:VCALENDAR
PRODID:-//MSIAPromos.com//NONSGML v1.0//EN
VERSION:2.0
CALSCALE:GREGORIAN
METHOD:PUBLISH
X-WR-CALNAME:MSIAPromos.com
X-ORIGINAL-URL:https://msiapromos.com
X-WR-CALDESC:Events for MSIAPromos.com
BEGIN:VEVENT
DTSTART:20141110T000000
DTEND:20141116T235900
DTSTAMP:20260421T053141
CREATED:20141107T173728
LAST-MODIFIED:20141110T005214
UID:31965@https://msiapromos.com
SUMMARY:Air Asia FREE Seats Promotion 10 - 16 Nov 2014
DESCRIPTION:Air Asia FREE SEATS promotion is back! Fly from KLIA2 to many destinations from RM0 base fare. For more information, visit [ https://msiapromos.com/airlines-flights/air-asia-free-seats-promotion-10-16-nov-2014-31965/ ]. 
LOCATION:
URL:https://msiapromos.com/airlines-flights/air-asia-free-seats-promotion-10-16-nov-2014-31965/
END:VEVENT
END:VCALENDAR