BEGIN:VCALENDAR
PRODID:-//MSIAPromos.com//NONSGML v1.0//EN
VERSION:2.0
CALSCALE:GREGORIAN
METHOD:PUBLISH
X-WR-CALNAME:MSIAPromos.com
X-ORIGINAL-URL:https://msiapromos.com
X-WR-CALDESC:Events for MSIAPromos.com
BEGIN:VEVENT
DTSTART:20141106T000000
DTEND:20141116T235900
DTSTAMP:20260419T232113
CREATED:20141105T235932
LAST-MODIFIED:20141105T235932
UID:31821@https://msiapromos.com
SUMMARY:Branded Apparel Clearance Sale @ 1 Shamelin 6 - 16 Nov 2014
DESCRIPTION:Boss, Dkny, Guess, A/x, Zara, Massimo Dutti and many more. For more information, visit [ https://msiapromos.com/warehouse-sales/branded-apparel-clearance-sale-1-shamelin-6-16-nov-2014-31821/ ]. 
LOCATION:
URL:https://msiapromos.com/warehouse-sales/branded-apparel-clearance-sale-1-shamelin-6-16-nov-2014-31821/
END:VEVENT
END:VCALENDAR