BEGIN:VCALENDAR
PRODID:-//MSIAPromos.com//NONSGML v1.0//EN
VERSION:2.0
CALSCALE:GREGORIAN
METHOD:PUBLISH
X-WR-CALNAME:MSIAPromos.com
X-ORIGINAL-URL:https://msiapromos.com
X-WR-CALDESC:Events for MSIAPromos.com
BEGIN:VEVENT
DTSTART:20141108T000000
DTEND:20141109T235900
DTSTAMP:20260423T091259
CREATED:20141105T165416
LAST-MODIFIED:20141105T165416
UID:31792@https://msiapromos.com
SUMMARY:BMW Test-Drive Weekend @ Bangsar Village II 8 - 9 Nov 2014
DESCRIPTION:The BMW Test-Drive Weekend at Bangsar by Quill Automobiles.. For more information, visit [ https://msiapromos.com/happenings/bmw-test-drive-weekend-bangsar-village-ii-8-9-nov-2014-31792/ ]. 
LOCATION:
URL:https://msiapromos.com/happenings/bmw-test-drive-weekend-bangsar-village-ii-8-9-nov-2014-31792/
END:VEVENT
END:VCALENDAR