BEGIN:VCALENDAR
PRODID:-//MSIAPromos.com//NONSGML v1.0//EN
VERSION:2.0
CALSCALE:GREGORIAN
METHOD:PUBLISH
X-WR-CALNAME:MSIAPromos.com
X-ORIGINAL-URL:https://msiapromos.com
X-WR-CALDESC:Events for MSIAPromos.com
BEGIN:VEVENT
DTSTART:20141017T000000
DTEND:20141021T235900
DTSTAMP:20260421T043708
CREATED:20141017T195045
LAST-MODIFIED:20141017T195045
UID:30494@https://msiapromos.com
SUMMARY:CyberLink 15% OFF PowerDVD 14 Coupon Code 17 - 21 Oct 2014
DESCRIPTION:Get 15% OFF off their popular software media player - PowerDVD. For more information, visit [ https://msiapromos.com/computers-pc/cyberlink-15-off-powerdvd-14-coupon-code-17-21-oct-2014-30494/ ]. 
LOCATION:
URL:https://msiapromos.com/computers-pc/cyberlink-15-off-powerdvd-14-coupon-code-17-21-oct-2014-30494/
END:VEVENT
END:VCALENDAR