BEGIN:VCALENDAR
PRODID:-//MSIAPromos.com//NONSGML v1.0//EN
VERSION:2.0
CALSCALE:GREGORIAN
METHOD:PUBLISH
X-WR-CALNAME:MSIAPromos.com
X-ORIGINAL-URL:https://msiapromos.com
X-WR-CALDESC:Events for MSIAPromos.com
BEGIN:VEVENT
DTSTART:20141017T000000
DTEND:20141102T235900
DTSTAMP:20260423T105511
CREATED:20141017T003924
LAST-MODIFIED:20141017T003924
UID:30303@https://msiapromos.com
SUMMARY:Popular Megastore Promotion @ Selected Outlets 17 Oct - 2 Nov 2014
DESCRIPTION:Exclusively @ IPC Shopping Centre (next to IKEA), Sunway Pyramid, Gurney Plaza and Tebrau City (Harris). For more information, visit [ https://msiapromos.com/books/popular-megastore-promotion-selected-outlets-17-oct-2-nov-2014-30303/ ]. 
LOCATION:
URL:https://msiapromos.com/books/popular-megastore-promotion-selected-outlets-17-oct-2-nov-2014-30303/
END:VEVENT
END:VCALENDAR