BEGIN:VCALENDAR
PRODID:-//MSIAPromos.com//NONSGML v1.0//EN
VERSION:2.0
CALSCALE:GREGORIAN
METHOD:PUBLISH
X-WR-CALNAME:MSIAPromos.com
X-ORIGINAL-URL:https://msiapromos.com
X-WR-CALDESC:Events for MSIAPromos.com
BEGIN:VEVENT
DTSTART:20141011T000000
DTEND:20141011T235900
DTSTAMP:20260419T232541
CREATED:20141011T190755
LAST-MODIFIED:20141011T190943
UID:30022@https://msiapromos.com
SUMMARY:Lazada Up To RM250 OFF ONE DAY Coupon Codes 11 Oct 2014
DESCRIPTION:Get up to RM250 OFF when you make a RM175 Minimum Spend with these coupon codes. For more information, visit [ https://msiapromos.com/department-stores/lazada-up-to-rm250-off-one-day-coupon-codes-11-oct-2014-30022/ ]. 
LOCATION:
URL:https://msiapromos.com/department-stores/lazada-up-to-rm250-off-one-day-coupon-codes-11-oct-2014-30022/
END:VEVENT
END:VCALENDAR