BEGIN:VCALENDAR
PRODID:-//MSIAPromos.com//NONSGML v1.0//EN
VERSION:2.0
CALSCALE:GREGORIAN
METHOD:PUBLISH
X-WR-CALNAME:MSIAPromos.com
X-ORIGINAL-URL:https://msiapromos.com
X-WR-CALDESC:Events for MSIAPromos.com
BEGIN:VEVENT
DTSTART:20141010T000000
DTEND:20141010T235900
DTSTAMP:20260421T045551
CREATED:20141010T144235
LAST-MODIFIED:20141010T144235
UID:29868@https://msiapromos.com
SUMMARY:Lazada Home Appliances 24-hr SALE 10 Oct 2014
DESCRIPTION:Over 30 items are going at up to 64% OFF. For more information, visit [ https://msiapromos.com/home-appliances/lazada-home-appliances-24-hr-sale-10-oct-2014-29868/ ]. 
LOCATION:
URL:https://msiapromos.com/home-appliances/lazada-home-appliances-24-hr-sale-10-oct-2014-29868/
END:VEVENT
END:VCALENDAR