BEGIN:VCALENDAR
PRODID:-//MSIAPromos.com//NONSGML v1.0//EN
VERSION:2.0
CALSCALE:GREGORIAN
METHOD:PUBLISH
X-WR-CALNAME:MSIAPromos.com
X-ORIGINAL-URL:https://msiapromos.com
X-WR-CALDESC:Events for MSIAPromos.com
BEGIN:VEVENT
DTSTART:20141004T000000
DTEND:20141013T235900
DTSTAMP:20260426T042025
CREATED:20141004T233920
LAST-MODIFIED:20141004T233920
UID:29597@https://msiapromos.com
SUMMARY:Harvey Norman Factory Direct Prices Offers 4 - 13 Oct 2014
DESCRIPTION:Get significant savings with the lowest possible factory direct prices at all Harvey Norman stores from 4th to 13th October, 2014. For more information, visit [ https://msiapromos.com/department-stores/harvey-norman-factory-direct-prices-offers-4-13-oct-2014-29597/ ]. 
LOCATION:
URL:https://msiapromos.com/department-stores/harvey-norman-factory-direct-prices-offers-4-13-oct-2014-29597/
END:VEVENT
END:VCALENDAR