BEGIN:VCALENDAR
PRODID:-//MSIAPromos.com//NONSGML v1.0//EN
VERSION:2.0
CALSCALE:GREGORIAN
METHOD:PUBLISH
X-WR-CALNAME:MSIAPromos.com
X-ORIGINAL-URL:https://msiapromos.com
X-WR-CALDESC:Events for MSIAPromos.com
BEGIN:VEVENT
DTSTART:20140911T000000
DTEND:20140913T235900
DTSTAMP:20260426T042555
CREATED:20140905T002844
LAST-MODIFIED:20140905T002844
UID:27618@https://msiapromos.com
SUMMARY:Foto Wah Kong Digital Lifestyle Imaging Warehouse SALE @ Perak 11 - 13 Sep 2014
DESCRIPTION:Enjoy discounts of up to 70% OFF on brands such as Sony, Nikon, Sanyo, Mites and more. For more information, visit [ https://msiapromos.com/warehouse-sales/foto-wah-kong-digital-lifestyle-imaging-warehouse-sale-perak-11-13-sep-2014-27618/ ]. 
LOCATION:
URL:https://msiapromos.com/warehouse-sales/foto-wah-kong-digital-lifestyle-imaging-warehouse-sale-perak-11-13-sep-2014-27618/
END:VEVENT
END:VCALENDAR