BEGIN:VCALENDAR
PRODID:-//MSIAPromos.com//NONSGML v1.0//EN
VERSION:2.0
CALSCALE:GREGORIAN
METHOD:PUBLISH
X-WR-CALNAME:MSIAPromos.com
X-ORIGINAL-URL:https://msiapromos.com
X-WR-CALDESC:Events for MSIAPromos.com
BEGIN:VEVENT
DTSTART:20140809T000000
DTEND:20140815T235900
DTSTAMP:20260426T042018
CREATED:20140809T190947
LAST-MODIFIED:20140809T190947
UID:25834@https://msiapromos.com
SUMMARY:Harvey Norman Digital Cameras, Furniture, Notebooks & Appliances Offers 9 - 15 Aug 2014
DESCRIPTION:Harvey Norman continues their Nostalgic Merdeka Sale. Check out some of the offers valid till 15 Aug 2014. For more information, visit [ https://msiapromos.com/department-stores/harvey-norman-digital-cameras-furniture-notebooks-appliances-offers-9-15-aug-2014-25834/ ]. 
LOCATION:
URL:https://msiapromos.com/department-stores/harvey-norman-digital-cameras-furniture-notebooks-appliances-offers-9-15-aug-2014-25834/
END:VEVENT
END:VCALENDAR