BEGIN:VCALENDAR
PRODID:-//MSIAPromos.com//NONSGML v1.0//EN
VERSION:2.0
CALSCALE:GREGORIAN
METHOD:PUBLISH
X-WR-CALNAME:MSIAPromos.com
X-ORIGINAL-URL:https://msiapromos.com
X-WR-CALDESC:Events for MSIAPromos.com
BEGIN:VEVENT
DTSTART:20130331T000000
DTEND:20130331T235900
DTSTAMP:20260423T105321
CREATED:20130330T183433
LAST-MODIFIED:20130401T215951
UID:2570@https://msiapromos.com
SUMMARY:Baskin-Robbins 31% Off Ice Cream Promotion @ Nationwide 31 Mar 2013
DESCRIPTION:31st day of the month is here and it's time to treat yourself to a handpacked pint, quart or half gallon of heavenly bliss at Baskin Robbins at 31 % off!. For more information, visit [ https://msiapromos.com/dining-restaurants-food/baskin-robbins-31-off-ice-cream-promotion-nationwide-31-mar-2013-2570/ ]. 
LOCATION:
URL:https://msiapromos.com/dining-restaurants-food/baskin-robbins-31-off-ice-cream-promotion-nationwide-31-mar-2013-2570/
END:VEVENT
END:VCALENDAR