BEGIN:VCALENDAR
PRODID:-//MSIAPromos.com//NONSGML v1.0//EN
VERSION:2.0
CALSCALE:GREGORIAN
METHOD:PUBLISH
X-WR-CALNAME:MSIAPromos.com
X-ORIGINAL-URL:https://msiapromos.com
X-WR-CALDESC:Events for MSIAPromos.com
BEGIN:VEVENT
DTSTART:20140729T000000
DTEND:20140810T235900
DTSTAMP:20260421T041015
CREATED:20140729T142043
LAST-MODIFIED:20140729T142043
UID:25161@https://msiapromos.com
SUMMARY:Qatar Airways Promo Air Fares 29 Jul - 10 Aug 2014
DESCRIPTION:Great offers, greater comfort – Fares from 2678 MYR with Qatar Airways latest promotion. For more information, visit [ https://msiapromos.com/airlines-flights/qatar-airways-promo-air-fares-29-jul-10-aug-2014-25161/ ]. 
LOCATION:
URL:https://msiapromos.com/airlines-flights/qatar-airways-promo-air-fares-29-jul-10-aug-2014-25161/
END:VEVENT
END:VCALENDAR