BEGIN:VCALENDAR
PRODID:-//MSIAPromos.com//NONSGML v1.0//EN
VERSION:2.0
CALSCALE:GREGORIAN
METHOD:PUBLISH
X-WR-CALNAME:MSIAPromos.com
X-ORIGINAL-URL:https://msiapromos.com
X-WR-CALDESC:Events for MSIAPromos.com
BEGIN:VEVENT
DTSTART:20140719T000000
DTEND:20140725T235900
DTSTAMP:20260423T125441
CREATED:20140720T171347
LAST-MODIFIED:20140720T171347
UID:24632@https://msiapromos.com
SUMMARY:Harvey Norman Digital Cameras, Furniture & Appliances Offers 19 - 25 Jul 2014
DESCRIPTION:Harvey Norman continues their Hari Raya Sale. Check out some of the offers valid till 25 Jul 2014. For more information, visit [ https://msiapromos.com/department-stores/harvey-norman-digital-cameras-furniture-appliances-offers-19-25-jul-2014-24632/ ]. 
LOCATION:
URL:https://msiapromos.com/department-stores/harvey-norman-digital-cameras-furniture-appliances-offers-19-25-jul-2014-24632/
END:VEVENT
END:VCALENDAR