BEGIN:VCALENDAR
PRODID:-//MSIAPromos.com//NONSGML v1.0//EN
VERSION:2.0
CALSCALE:GREGORIAN
METHOD:PUBLISH
X-WR-CALNAME:MSIAPromos.com
X-ORIGINAL-URL:https://msiapromos.com
X-WR-CALDESC:Events for MSIAPromos.com
BEGIN:VEVENT
DTSTART:20140715T000000
DTEND:20140727T235900
DTSTAMP:20260423T105357
CREATED:20140715T121054
LAST-MODIFIED:20140715T164442
UID:24192@https://msiapromos.com
SUMMARY:Starbucks Buy 1 Get 1 FREE Strawberry Cheesecake Beverages 15 - 27 Jul 2014
DESCRIPTION:Get the Starbucks Malaysia App and enjoy a Buy 1 Get 1 FREE Strawberry Cheesecake Beverage. For more information, visit [ https://msiapromos.com/dining-restaurants-food/starbucks-buy-1-get-1-free-strawberry-cheesecake-beverages-15-27-jul-2014-24192/ ]. 
LOCATION:
URL:https://msiapromos.com/dining-restaurants-food/starbucks-buy-1-get-1-free-strawberry-cheesecake-beverages-15-27-jul-2014-24192/
END:VEVENT
END:VCALENDAR