BEGIN:VCALENDAR
PRODID:-//MSIAPromos.com//NONSGML v1.0//EN
VERSION:2.0
CALSCALE:GREGORIAN
METHOD:PUBLISH
X-WR-CALNAME:MSIAPromos.com
X-ORIGINAL-URL:https://msiapromos.com
X-WR-CALDESC:Events for MSIAPromos.com
BEGIN:VEVENT
DTSTART:20140703T000000
DTEND:20140731T235900
DTSTAMP:20260421T045551
CREATED:20140703T113928
LAST-MODIFIED:20140702T224102
UID:23089@https://msiapromos.com
SUMMARY:Zalora 18% OFF Storewide Coupon Code (NO Min Spend) 3 - 31 Jul 2014
DESCRIPTION:Enjoy 18% OFF (NO Minimum Spend) at Zalora with the below coupon codes. For more information, visit [ https://msiapromos.com/department-stores/zalora-18-off-storewide-coupon-code-no-min-spend-3-31-jul-2014-23089/ ]. 
LOCATION:
URL:https://msiapromos.com/department-stores/zalora-18-off-storewide-coupon-code-no-min-spend-3-31-jul-2014-23089/
END:VEVENT
END:VCALENDAR