BEGIN:VCALENDAR
PRODID:-//MSIAPromos.com//NONSGML v1.0//EN
VERSION:2.0
CALSCALE:GREGORIAN
METHOD:PUBLISH
X-WR-CALNAME:MSIAPromos.com
X-ORIGINAL-URL:https://msiapromos.com
X-WR-CALDESC:Events for MSIAPromos.com
BEGIN:VEVENT
DTSTART:20140717T000000
DTEND:20140726T235900
DTSTAMP:20260423T092458
CREATED:20140629T224821
LAST-MODIFIED:20140629T224821
UID:22861@https://msiapromos.com
SUMMARY:M2 Premium Brands SALE @ Brem Mall Kepong 17 - 26 Jul 2014
DESCRIPTION:Discounts are up to 70% off. For more information, visit [ https://msiapromos.com/handbags/m2-premium-brands-sale-brem-mall-kepong-17-26-jul-2014-22861/ ]. 
LOCATION:
URL:https://msiapromos.com/handbags/m2-premium-brands-sale-brem-mall-kepong-17-26-jul-2014-22861/
END:VEVENT
END:VCALENDAR