BEGIN:VCALENDAR
PRODID:-//MSIAPromos.com//NONSGML v1.0//EN
VERSION:2.0
CALSCALE:GREGORIAN
METHOD:PUBLISH
X-WR-CALNAME:MSIAPromos.com
X-ORIGINAL-URL:https://msiapromos.com
X-WR-CALDESC:Events for MSIAPromos.com
BEGIN:VEVENT
DTSTART:20140703T000000
DTEND:20140703T235900
DTSTAMP:20260419T210623
CREATED:20140628T182950
LAST-MODIFIED:20140628T183849
UID:22723@https://msiapromos.com
SUMMARY:Xiaomi Mi3 & Power Banks Restock Sale From 12pm On 3 Jul 2014
DESCRIPTION:7000 sets of Mi3 and 10000 units of 5200 mAh Mi Power Bank. For more information, visit [ https://msiapromos.com/mobile-phones/xiaomi-mi3-power-banks-restock-sale-from-12pm-on-3-jul-2014-22723/ ]. 
LOCATION:
URL:https://msiapromos.com/mobile-phones/xiaomi-mi3-power-banks-restock-sale-from-12pm-on-3-jul-2014-22723/
END:VEVENT
END:VCALENDAR