BEGIN:VCALENDAR
PRODID:-//MSIAPromos.com//NONSGML v1.0//EN
VERSION:2.0
CALSCALE:GREGORIAN
METHOD:PUBLISH
X-WR-CALNAME:MSIAPromos.com
X-ORIGINAL-URL:https://msiapromos.com
X-WR-CALDESC:Events for MSIAPromos.com
BEGIN:VEVENT
DTSTART:20140625T000000
DTEND:20140625T235900
DTSTAMP:20260421T045621
CREATED:20140625T110107
LAST-MODIFIED:20140625T110916
UID:22300@https://msiapromos.com
SUMMARY:Zalora 20% OFF Private Labels (NO Min Spend) One Day Promo 25 Jun 2014
DESCRIPTION:Enjoy 20% OFF at Zalora, which provides over 800 fashion and beauty brands, on 29 Apr 2014. For more information, visit [ https://msiapromos.com/department-stores/zalora-20-off-private-labels-no-min-spend-one-day-promo-25-jun-2014-22300/ ]. 
LOCATION:
URL:https://msiapromos.com/department-stores/zalora-20-off-private-labels-no-min-spend-one-day-promo-25-jun-2014-22300/
END:VEVENT
END:VCALENDAR