BEGIN:VCALENDAR
PRODID:-//MSIAPromos.com//NONSGML v1.0//EN
VERSION:2.0
CALSCALE:GREGORIAN
METHOD:PUBLISH
X-WR-CALNAME:MSIAPromos.com
X-ORIGINAL-URL:https://msiapromos.com
X-WR-CALDESC:Events for MSIAPromos.com
BEGIN:VEVENT
DTSTART:20130322T000000
DTEND:20130401T235900
DTSTAMP:20260422T083543
CREATED:20130320T134518
LAST-MODIFIED:20130323T021449
UID:2174@https://msiapromos.com
SUMMARY:OTO Clearance & Special Deals Up To 70% Off @ Centro Mall 22 Mar - 1 Apr 2013
DESCRIPTION:OTO will be having a clearance and special deals offer at Centro Mall from 22 March to 1 April 2013. For more information, visit [ https://msiapromos.com/warehouse-sales/oto-clearance-special-deals-up-to-70-off-centro-mall-22-mar-1-apr-2013-2174/ ]. 
LOCATION:
URL:https://msiapromos.com/warehouse-sales/oto-clearance-special-deals-up-to-70-off-centro-mall-22-mar-1-apr-2013-2174/
END:VEVENT
END:VCALENDAR