BEGIN:VCALENDAR
PRODID:-//MSIAPromos.com//NONSGML v1.0//EN
VERSION:2.0
CALSCALE:GREGORIAN
METHOD:PUBLISH
X-WR-CALNAME:MSIAPromos.com
X-ORIGINAL-URL:https://msiapromos.com
X-WR-CALDESC:Events for MSIAPromos.com
BEGIN:VEVENT
DTSTART:20140531T000000
DTEND:20140628T235900
DTSTAMP:20260423T123830
CREATED:20140531T235229
LAST-MODIFIED:20140531T235229
UID:20482@https://msiapromos.com
SUMMARY:Fa'iq Jewels Mid Year SALE 31 May - 28 Jun 2014
DESCRIPTION:Ultimate Mid-Year Sale till 28 June 2014 at Bangsar Shopping Centre. For more information, visit [ https://msiapromos.com/jewellery/faiq-jewels-mid-year-sale-31-may-28-jun-2014-20482/ ]. 
LOCATION:
URL:https://msiapromos.com/jewellery/faiq-jewels-mid-year-sale-31-may-28-jun-2014-20482/
END:VEVENT
END:VCALENDAR