BEGIN:VCALENDAR
PRODID:-//MSIAPromos.com//NONSGML v1.0//EN
VERSION:2.0
CALSCALE:GREGORIAN
METHOD:PUBLISH
X-WR-CALNAME:MSIAPromos.com
X-ORIGINAL-URL:https://msiapromos.com
X-WR-CALDESC:Events for MSIAPromos.com
BEGIN:VEVENT
DTSTART:20140507T000000
DTEND:20140507T235900
DTSTAMP:20260421T045621
CREATED:20140507T125607
LAST-MODIFIED:20140507T125607
UID:18851@https://msiapromos.com
SUMMARY:Zalora 20% OFF Extreme Bargains 3Hr Promo 7 May 2014
DESCRIPTION:Enjoy 20% OFF selected Women's and Men's items. For more information, visit [ https://msiapromos.com/fashion-accessories/zalora-20-off-extreme-bargains-3hr-promo-7-may-2014-18851/ ]. 
LOCATION:
URL:https://msiapromos.com/fashion-accessories/zalora-20-off-extreme-bargains-3hr-promo-7-may-2014-18851/
END:VEVENT
END:VCALENDAR