BEGIN:VCALENDAR
PRODID:-//MSIAPromos.com//NONSGML v1.0//EN
VERSION:2.0
CALSCALE:GREGORIAN
METHOD:PUBLISH
X-WR-CALNAME:MSIAPromos.com
X-ORIGINAL-URL:https://msiapromos.com
X-WR-CALDESC:Events for MSIAPromos.com
BEGIN:VEVENT
DTSTART:20140505T000000
DTEND:20140507T235900
DTSTAMP:20260423T124035
CREATED:20140505T141127
LAST-MODIFIED:20140505T141127
UID:18758@https://msiapromos.com
SUMMARY:Guardian 30% OFF Cosmetic Range Promotion 5 - 7 May 2014
DESCRIPTION:Valid on normal price items, except Best Buy and New Arrivals. For more information, visit [ https://msiapromos.com/cosmetics/guardian-30-off-cosmetic-range-promotion-5-7-may-2014-18758/ ]. 
LOCATION:
URL:https://msiapromos.com/cosmetics/guardian-30-off-cosmetic-range-promotion-5-7-may-2014-18758/
END:VEVENT
END:VCALENDAR