BEGIN:VCALENDAR
PRODID:-//MSIAPromos.com//NONSGML v1.0//EN
VERSION:2.0
CALSCALE:GREGORIAN
METHOD:PUBLISH
X-WR-CALNAME:MSIAPromos.com
X-ORIGINAL-URL:https://msiapromos.com
X-WR-CALDESC:Events for MSIAPromos.com
BEGIN:VEVENT
DTSTART:20140501T000000
DTEND:20140531T235900
DTSTAMP:20260421T045420
CREATED:20140501T192433
LAST-MODIFIED:20140501T192739
UID:18452@https://msiapromos.com
SUMMARY:Zalora 15% OFF Storewide Coupon Code (NO Min Spend*) 1 - 31 May 2014
DESCRIPTION:Enjoy up to 15% OFF (NO* Minimum Spend) at Zalora with the below coupon codes. For more information, visit [ https://msiapromos.com/department-stores/zalora-15-off-storewide-coupon-code-no-min-spend-1-31-may-2014-18452/ ]. 
LOCATION:
URL:https://msiapromos.com/department-stores/zalora-15-off-storewide-coupon-code-no-min-spend-1-31-may-2014-18452/
END:VEVENT
END:VCALENDAR