BEGIN:VCALENDAR
PRODID:-//MSIAPromos.com//NONSGML v1.0//EN
VERSION:2.0
CALSCALE:GREGORIAN
METHOD:PUBLISH
X-WR-CALNAME:MSIAPromos.com
X-ORIGINAL-URL:https://msiapromos.com
X-WR-CALDESC:Events for MSIAPromos.com
BEGIN:VEVENT
DTSTART:20140412T000000
DTEND:20140421T235900
DTSTAMP:20260423T105402
CREATED:20140412T113250
LAST-MODIFIED:20140412T113307
UID:17049@https://msiapromos.com
SUMMARY:Etihad Airways From RM1972 Europe, US & More Air Fares Promo 12 - 21 Apr 2014
DESCRIPTION:Enjoy super deals on Etihad Airway's Coral Economy & Pearl Business Class from Kuala Lumpur to some of the most popular destinations.. For more information, visit [ https://msiapromos.com/airlines-flights/etihad-airways-from-rm1972-europe-us-more-air-fares-promo-12-21-apr-2014-17049/ ]. 
LOCATION:
URL:https://msiapromos.com/airlines-flights/etihad-airways-from-rm1972-europe-us-more-air-fares-promo-12-21-apr-2014-17049/
END:VEVENT
END:VCALENDAR