BEGIN:VCALENDAR
PRODID:-//MSIAPromos.com//NONSGML v1.0//EN
VERSION:2.0
CALSCALE:GREGORIAN
METHOD:PUBLISH
X-WR-CALNAME:MSIAPromos.com
X-ORIGINAL-URL:https://msiapromos.com
X-WR-CALDESC:Events for MSIAPromos.com
BEGIN:VEVENT
DTSTART:20140402T000000
DTEND:20140406T235900
DTSTAMP:20260419T231625
CREATED:20140402T175715
LAST-MODIFIED:20140402T175715
UID:16457@https://msiapromos.com
SUMMARY:Sasa Everything RM30 & Below @ 1 Shamelin 2 Apr 2014
DESCRIPTION:SaSa is offering everything at below RM30 at their Outlet store at 1 Shamelin Shopping Mall. While stocks last.. For more information, visit [ https://msiapromos.com/cosmetics/sasa-everything-rm30-below-1-shamelin-2-apr-2014-16457/ ]. 
LOCATION:
URL:https://msiapromos.com/cosmetics/sasa-everything-rm30-below-1-shamelin-2-apr-2014-16457/
END:VEVENT
END:VCALENDAR