BEGIN:VCALENDAR
PRODID:-//MSIAPromos.com//NONSGML v1.0//EN
VERSION:2.0
CALSCALE:GREGORIAN
METHOD:PUBLISH
X-WR-CALNAME:MSIAPromos.com
X-ORIGINAL-URL:https://msiapromos.com
X-WR-CALDESC:Events for MSIAPromos.com
BEGIN:VEVENT
DTSTART:20140402T000000
DTEND:20140407T235900
DTSTAMP:20260423T105402
CREATED:20140402T145429
LAST-MODIFIED:20140402T145429
UID:16426@https://msiapromos.com
SUMMARY:Etihad Airways Economy & Business Promo Air Fares 2 - 7 Apr 2014
DESCRIPTION:Enjoy super deals on Coral Economy and Pearl Business class from Kuala Lumpur to some of the most popular destinations with Etihad Airway's latest promotion. For more information, visit [ https://msiapromos.com/airlines-flights/etihad-airways-economy-business-promo-air-fares-2-7-apr-2014-16426/ ]. 
LOCATION:
URL:https://msiapromos.com/airlines-flights/etihad-airways-economy-business-promo-air-fares-2-7-apr-2014-16426/
END:VEVENT
END:VCALENDAR